BEGIN:VCALENDAR
VERSION:2.0
PRODID:-//HistoryMiami Museum - ECPv5.15.0.1//NONSGML v1.0//EN
CALSCALE:GREGORIAN
METHOD:PUBLISH
X-WR-CALNAME:HistoryMiami Museum
X-ORIGINAL-URL:https://historymiami.org
X-WR-CALDESC:Events for HistoryMiami Museum
BEGIN:VTIMEZONE
TZID:America/Chicago
BEGIN:DAYLIGHT
TZOFFSETFROM:-0600
TZOFFSETTO:-0500
TZNAME:CDT
DTSTART:20180311T080000
END:DAYLIGHT
BEGIN:STANDARD
TZOFFSETFROM:-0500
TZOFFSETTO:-0600
TZNAME:CST
DTSTART:20181104T070000
END:STANDARD
END:VTIMEZONE
BEGIN:VEVENT
DTSTART;TZID=America/Chicago:20180316T180000
DTEND;TZID=America/Chicago:20180316T210000
DTSTAMP:20260421T051956
CREATED:20180106T042700Z
LAST-MODIFIED:20220613T082524Z
UID:17143-1521223200-1521234000@historymiami.org
SUMMARY:Opening Party of Avenues of Expression: Street Traditions in Miami
DESCRIPTION:Join us for the opening party of our newest exhibition Avenues of Expression: Street Traditions in Miami. In partnership with the New Tropic\, our party will feature music by DJ Le Spam\, drinks by Titos Vodka\, and some of your favorite street traditions. Join us for this party on plaza and get a first look at our exciting new exhibit and discover the creative street traditions that make Miami\, Miami!  Click here to register here!\n\n\n\n \n\n\n\n \n\n\n\n \n\n\n\n\n\n\n\n\n\n\n\n\n\n \n\nPresented by the Museum’s South Florida Folklife Center with the support of the National Endowment for the Arts.
URL:https://historymiami.org/event/avenues-of-expression-street-traditions-in-miami/
CATEGORIES:Previous Event
ATTACH;FMTTYPE=image/jpeg:https://historymiami.org/wp-content/uploads/wynwwod.jpg
END:VEVENT
END:VCALENDAR