BEGIN:VCALENDAR
VERSION:2.0
PRODID:-//HistoryMiami Museum - ECPv5.15.0.1//NONSGML v1.0//EN
CALSCALE:GREGORIAN
METHOD:PUBLISH
X-WR-CALNAME:HistoryMiami Museum
X-ORIGINAL-URL:https://historymiami.org
X-WR-CALDESC:Events for HistoryMiami Museum
BEGIN:VTIMEZONE
TZID:America/Chicago
BEGIN:DAYLIGHT
TZOFFSETFROM:-0600
TZOFFSETTO:-0500
TZNAME:CDT
DTSTART:20180311T080000
END:DAYLIGHT
BEGIN:STANDARD
TZOFFSETFROM:-0500
TZOFFSETTO:-0600
TZNAME:CST
DTSTART:20181104T070000
END:STANDARD
END:VTIMEZONE
BEGIN:VEVENT
DTSTART;TZID=America/Chicago:20180127T140000
DTEND;TZID=America/Chicago:20180127T150000
DTSTAMP:20260421T180327
CREATED:20171122T014700Z
LAST-MODIFIED:20220614T071511Z
UID:17156-1517061600-1517065200@historymiami.org
SUMMARY:Hands-On-History: South Florida Pirates
DESCRIPTION:Join a Museum Educator every Saturday for story time followed by a related art activity. Free for participating children and caregivers. \nPiracy began more than 2000 years ago\, when sea robbers began to flock around the trading routes. Join us for a reading of How to Be a Pirate and make you very own pirate hat and flag. \n\n\n\n\n\n*** Weekend programming not available on second Saturdays due to Free Family Fun Days\, and it is subject to change without notice.
URL:https://historymiami.org/event/hands-on-history-south-florida-pirates-2/
CATEGORIES:Previous Event
ATTACH;FMTTYPE=image/jpeg:https://historymiami.org/wp-content/uploads/060-e1499364773287.jpg
END:VEVENT
END:VCALENDAR