BEGIN:VCALENDAR
VERSION:2.0
PRODID:-//HistoryMiami Museum - ECPv5.15.0.1//NONSGML v1.0//EN
CALSCALE:GREGORIAN
METHOD:PUBLISH
X-WR-CALNAME:HistoryMiami Museum
X-ORIGINAL-URL:https://historymiami.org
X-WR-CALDESC:Events for HistoryMiami Museum
BEGIN:VTIMEZONE
TZID:America/Chicago
BEGIN:DAYLIGHT
TZOFFSETFROM:-0600
TZOFFSETTO:-0500
TZNAME:CDT
DTSTART:20180311T080000
END:DAYLIGHT
BEGIN:STANDARD
TZOFFSETFROM:-0500
TZOFFSETTO:-0600
TZNAME:CST
DTSTART:20181104T070000
END:STANDARD
END:VTIMEZONE
BEGIN:VEVENT
DTSTART;TZID=America/Chicago:20180217T140000
DTEND;TZID=America/Chicago:20180217T150000
DTSTAMP:20260419T082013
CREATED:20171122T210100Z
LAST-MODIFIED:20220614T071503Z
UID:17166-1518876000-1518879600@historymiami.org
SUMMARY:Hands-On-History: The Infinite Contributions of Katherine Johnson
DESCRIPTION:Join a Museum Educator every Saturday for story time followed by a related art activity. Free for participating children and caregivers. \nLearn about the amazing young girl who loved to count\, NASA’s research mathematician Katherine Johnson and create a geometric artwork using a compass. \n*** Weekend programming is not available on second Saturdays due to Free Family Fun Days\, and it is subject to change without notice. \nImage via eskipaper.com
URL:https://historymiami.org/event/hands-on-history-the-infinite-contributions-of-katherine-johnson/
CATEGORIES:Previous Event
ATTACH;FMTTYPE=image/jpeg:https://historymiami.org/wp-content/uploads/free-math-wallpaper-1.jpg
END:VEVENT
END:VCALENDAR