BEGIN:VCALENDAR
VERSION:2.0
PRODID:-//HistoryMiami Museum - ECPv5.15.0.1//NONSGML v1.0//EN
CALSCALE:GREGORIAN
METHOD:PUBLISH
X-WR-CALNAME:HistoryMiami Museum
X-ORIGINAL-URL:https://historymiami.org
X-WR-CALDESC:Events for HistoryMiami Museum
BEGIN:VTIMEZONE
TZID:America/Chicago
BEGIN:DAYLIGHT
TZOFFSETFROM:-0600
TZOFFSETTO:-0500
TZNAME:CDT
DTSTART:20160313T080000
END:DAYLIGHT
BEGIN:STANDARD
TZOFFSETFROM:-0500
TZOFFSETTO:-0600
TZNAME:CST
DTSTART:20161106T070000
END:STANDARD
END:VTIMEZONE
BEGIN:VEVENT
DTSTART;TZID=America/Chicago:20161016T133000
DTEND;TZID=America/Chicago:20161016T150000
DTSTAMP:20260420T044617
CREATED:20160815T222600Z
LAST-MODIFIED:20220613T083507Z
UID:17412-1476624600-1476630000@historymiami.org
SUMMARY:Members' Curator Led Tour: Alfred Browning Parker
DESCRIPTION:Experience the new exhibition The Discipline of Nature Architect Alfred Browning Parker in Florida on this free Members-Only tour. Your guide is exhibition Curator Allan Shulman. Members attending can enter to win a beautiful hardcover book about Miami’s maverick modernist Alfred Browning Parker. There is a maximum of thirty members for this tour.  Reserve your space by calling Hilda Masip in Member Services at 305-375-1618 or email hmasip@historymiami.org.\n\nPhoto courtesty of Ezra Stoller/Esto
URL:https://historymiami.org/event/members-curator-led-tour-alfred-browning-parker/
CATEGORIES:Previous Event
ATTACH;FMTTYPE=image/jpeg:https://historymiami.org/wp-content/uploads/41N.173-e1470240561654.jpg
END:VEVENT
END:VCALENDAR